BEGIN:VCALENDAR
VERSION:2.0
PRODID:-//wp-events-plugin.com//7.2.3.1//EN
BEGIN:VEVENT
UID:7@haus-des-engagements.de
DTSTART:20200128T170000Z
DTEND:20200204T190000Z
DTSTAMP:20191010T092644Z
URL:https://haus-des-engagements.de/angebote/veranstaltungen/workshop-2-te
 rmine-flyer-erstellen-mit-scribus/
SUMMARY:Flyer erstellen mit Scribus
DESCRIPTION:Ihr möchtet für eure Organisation oder eine eurer Veranstaltu
 ngen einen ansprechenden Flyer erstellen? Mit dem Desktop-Publishing Progr
 amm Scribus lernt ihr in diesem Workshop den Umgang mit einer kostenfreien
  und gleichzeitig professionellen Alternative zu teurer Software wie Adobe
  InDesign. Von der Konzeption über Layout bis hin zum Druck bekommt ihr G
 rundkenntnisse für die Gestaltung von Printmedien und werdet eine druckfe
 rtige Datei erstellen.\n\n&nbsp\;\n\n28.01.2020 18-20 Uhr: Grundlagen &amp
 \; Konzeption\n\n 	Einführung: gestalterische Grundregeln und Begriffe\, 
 frei verfügbares Bildmaterial und Schriftarten\n 	Konzeption: Wer ist mei
 ne Zielgruppe? Was will ich vermitteln? Was muss ich in Bezug auf den Druc
 k im Design beachten?\n 	Erste Schritte mit Scribus: Funktionen und Umgang
 \n 	„Hausaufgabe“: Inhalte vorbereiten (Texte / Bilder)\n\n&nbsp\;\n\n
 04.02.2020\, 18-20 Uhr: Gestaltung und Druck\n\n 	Gestaltung des Flyers mi
 t Scribus mithilfe der vorbereiteten Inhalte\n 	Feedback und Anpassungen\n
  	Hinweise zum Druck\n\n&nbsp\;\n\nReferentin: Imke Senst\, selbstständig
 e Grafikdesignerin\, entwickelt Logos\, Corporate Designs und Gestaltungen
  für Print- und Onlinemedien. Imke arbeitet schwerpunktmäßig für gemei
 nnützige Organisationen. Durch frühere berufliche Tätigkeit im Tourismu
 s-/ Kulturbereich bringt sie entsprechendes Marketingwissen mit.\n\nTeilna
 hme:\n\n 	Wir bitten euch darum\, einen eigenen Laptop mitzubringen und da
 rauf Scribus bereits zu installieren. Den\nDownload für euer jeweiliges B
 etriebssystem findet ihr unter: scribus.net/downloads/stable-branch/\n 	Di
 e Inhalte bauen aufeinander auf. Es ist daher nicht möglich\, nur an einz
 elnen Terminen teilzunehmen.\n 	Um allen eine enge Betreuung und eine akti
 ve Beteiligung zu ermöglichen\, ist die Zahl auf zehn Organisationen begr
 enzt. Idealerweise nehmen von jeder Organisation zwei Personen teil\, soda
 ss gemeinsam über Struktur\, Inhalte und Design diskutiert werden kann un
 d es dann mind. zwei Personen gibt\, die sich mit der Flyergestaltung ausk
 ennen. Die Teilnahme für die zweite Person ist kostenfrei. Beim Anmeldefo
 rmular genügt eine Buchung und die Angabe des Namens der zweiten Person.\
 n 	Kosten: dank der Förderung durch die Postcode Lotterie 50 € pro Pers
 on für die gesamte Reihe\; 25 € für CoWorker*innen im Haus des Engagem
 ents oder Organisationen mit sehr wenig Budget.\n 	Stornogebühr 50% ab 2 
 Wochen vor Beginn der Reihe.\n 	Ort: Haus des Engagements\, Rehlingstraße
  9\, 79100 Freiburg\n 	Anmeldung bis zum 10.01.2020\n\nDiese Workshopreihe
  ist gefördert durch 
CATEGORIES:Workshop
LOCATION:Haus des Engagements\, Rehlingstraße 9\, Freiburg\, 79100\, Deuts
 chland
X-APPLE-STRUCTURED-LOCATION;VALUE=URI;X-ADDRESS=Rehlingstraße 9\, Freiburg
 \, 79100\, Deutschland;X-APPLE-RADIUS=100;X-TITLE=Haus des Engagements:geo
 :0,0
END:VEVENT
END:VCALENDAR