BEGIN:VCALENDAR
VERSION:2.0
PRODID:-//wp-events-plugin.com//7.2.3.1//EN
BEGIN:VEVENT
UID:215@haus-des-engagements.de
DTSTART:20260521T180000Z
DTEND:20260521T200000Z
DTSTAMP:20260421T070959Z
URL:https://haus-des-engagements.de/angebote/veranstaltungen/wie-ticken-st
 iftungen-2/
SUMMARY:Wie ticken Stiftungen?
DESCRIPTION:Wie und wo findet ihr für eure Initiative die passenden Stiftu
 ngen zum Projekt? Was muss in einem guten Förderantrag stehen? Anhand von
  Praxisbeispielen wird gezeigt\, wie ihr die tatsächlichen Kosten eines P
 rojekts ermitteln und Stiftungen für eure Sache gewinnen könnt.
CATEGORIES:Fortbildung
LOCATION:Haus des Engagements\, Rehlingstraße 9\, Freiburg\, 79100\, Deuts
 chland
X-APPLE-STRUCTURED-LOCATION;VALUE=URI;X-ADDRESS=Rehlingstraße 9\, Freiburg
 \, 79100\, Deutschland;X-APPLE-RADIUS=100;X-TITLE=Haus des Engagements:geo
 :0,0
END:VEVENT
END:VCALENDAR