BEGIN:VCALENDAR
VERSION:2.0
PRODID:-//wp-events-plugin.com//7.2.3.1//EN
BEGIN:VEVENT
UID:126@haus-des-engagements.de
DTSTART:20231014T090000Z
DTEND:20231014T110000Z
DTSTAMP:20231010T112452Z
URL:https://haus-des-engagements.de/angebote/veranstaltungen/vereinsrecht/
SUMMARY:Vereinsrecht
DESCRIPTION:Wie muss eine Satzung aussehen\, was müssen wir bei Satzungsä
 nderungen beachten? Was muss ein Vorstand machen und wofür haftet er? Wie
  erhält man die Gemeinnützigkeit? Der Kurs vermittelt Grundlagen des Ver
 einsrechts. Ergänzend werden die Grundlagen der Rechnungslegung für Vere
 ine unter Berücksichtigung der Gemeinnützigkeitsvorschriften erläutert.
CATEGORIES:Fortbildung
LOCATION:Freiburger Zentrum für Engagement\, Schwabentorring 2\, Freiburg\
 , 79098\, Deutschland
X-APPLE-STRUCTURED-LOCATION;VALUE=URI;X-ADDRESS=Schwabentorring 2\, Freibur
 g\, 79098\, Deutschland;X-APPLE-RADIUS=100;X-TITLE=Freiburger Zentrum für
  Engagement:geo:0,0
END:VEVENT
END:VCALENDAR