BEGIN:VCALENDAR
VERSION:2.0
PRODID:-//wp-events-plugin.com//7.2.3.1//EN
BEGIN:VEVENT
UID:205@haus-des-engagements.de
DTSTART:20260301T130000Z
DTEND:20260301T160000Z
DTSTAMP:20260206T143320Z
URL:https://haus-des-engagements.de/angebote/veranstaltungen/saatgut-und-s
 etzlingstauschboerse-mit-aussaat-crashkurs/
SUMMARY:Saatgut- und Setzlingstauschbörse mit Aussaat-Crashkurs
DESCRIPTION:Die Zeit zum Vorziehen und Aussäen beginnt – und damit die V
 orfreude auf eine leckere Ernte!\nDu hast noch Saatgut übrig oder bereits
  mehr Setzlinge gezogen\, als du brauchst? Du wünschst dir mehr Vielfalt 
 an Kräutern und Gemüse auf deinem Balkon oder im Garten? Dann bring dein
  Saatgut oder deine überzähligen Setzlinge mit und tausche sie ganz unko
 mpliziert und ohne kommerziellen Hintergrund mit anderen.
ATTACH;FMTTYPE=image/jpeg:https://haus-des-engagements.de/wp-content/uploa
 ds/2026/01/IMG_20240211_152712.jpg
CATEGORIES:Fortbildung
LOCATION:Ökostation Freiburg\, Falkenbergerstraße 21B\, Freiburg\, 79110\
 , Deutschland
X-APPLE-STRUCTURED-LOCATION;VALUE=URI;X-ADDRESS=Falkenbergerstraße 21B\, F
 reiburg\, 79110\, Deutschland;X-APPLE-RADIUS=100;X-TITLE=Ökostation Freib
 urg:geo:0,0
END:VEVENT
END:VCALENDAR