BEGIN:VCALENDAR
VERSION:2.0
PRODID:-//wp-events-plugin.com//7.2.3.1//EN
BEGIN:VEVENT
UID:197@haus-des-engagements.de
DTSTART:20251108T100000Z
DTEND:20251108T173000Z
DTSTAMP:20251031T085049Z
URL:https://haus-des-engagements.de/angebote/veranstaltungen/resilient-und
 -motiviert-im-engagement/
SUMMARY:Resilient und motiviert im Engagement
DESCRIPTION:Menschen\, die sich gesellschaftlich engagieren\, sei es ehrena
 mtlich oder beruflich\, sind oft überlastet und haben mit vielerlei Frust
 ration zu kämpfen. Oft wirken negative Gedanken und Emotionen auch in de
 r Freizeit weiter und äußern sich z.B. als dauerhafte Sorgen\, niedriges
  Energielevel oder Erschöpfung. Mit diesem Seminar möchten wir Engagier
 te stärken auch langfristig motiviert und zufrieden der wichtigen Arbeit 
 nachgehen zu können. Dabei geht es nicht um Wettbewerb oder Otpimierung\,
  sondern um die Auseinandersetzung mit der Haltung: "Wir tun\, was wir kö
 nnen\, und das ist genug."
CATEGORIES:Fortbildung
LOCATION:Haus des Engagements\, Rehlingstraße 9\, Freiburg\, 79100\, Deuts
 chland
X-APPLE-STRUCTURED-LOCATION;VALUE=URI;X-ADDRESS=Rehlingstraße 9\, Freiburg
 \, 79100\, Deutschland;X-APPLE-RADIUS=100;X-TITLE=Haus des Engagements:geo
 :0,0
END:VEVENT
END:VCALENDAR