BEGIN:VCALENDAR
VERSION:2.0
PRODID:-//wp-events-plugin.com//7.2.3.1//EN
BEGIN:VEVENT
UID:212@haus-des-engagements.de
DTSTART:20260919T133000Z
DTEND:20260920T113000Z
DTSTAMP:20260414T122435Z
URL:https://haus-des-engagements.de/angebote/veranstaltungen/pressearbeit-
 fuer-vereine-5/
SUMMARY:Pressearbeit für Vereine
DESCRIPTION:In diesem Einführungskurs in die erfolgreiche Pressearbeit erf
 ahrt ihr  etwas über das Innenleben von Redaktionen\, über Entscheidungs
 wege und Kriterien der Journalist*innen. Daraus ergibt sich\, wann eine Pr
 essemitteilung sinnvoll ist und vor allem\, wie sie gestaltet sein sollte.
  In einer praktischen Übung erlebt ihr eine Redaktionskonferenz.
CATEGORIES:Fortbildung
LOCATION:Haus des Engagements\, Rehlingstraße 9\, Freiburg\, 79100\, Deuts
 chland
X-APPLE-STRUCTURED-LOCATION;VALUE=URI;X-ADDRESS=Rehlingstraße 9\, Freiburg
 \, 79100\, Deutschland;X-APPLE-RADIUS=100;X-TITLE=Haus des Engagements:geo
 :0,0
END:VEVENT
END:VCALENDAR