BEGIN:VCALENDAR
VERSION:2.0
PRODID:-//wp-events-plugin.com//7.2.3.1//EN
BEGIN:VEVENT
UID:213@haus-des-engagements.de
DTSTART:20261017T133000Z
DTEND:20261017T173000Z
DTSTAMP:20260414T122554Z
URL:https://haus-des-engagements.de/angebote/veranstaltungen/praxis-worksh
 op-pressearbeit-pressemitteilungen-und-interviews/
SUMMARY:Praxis-Workshop Pressearbeit: Pressemitteilungen und Interviews
DESCRIPTION:Wie gelingt es\, die eigenen Botschaften über die „klassisch
 en“ Medien wirksam zu verbreiten? In diesem Praxis-Workshop könnt ihr 
 – aufbauend auf dem Pressearbeit-Grundkurs - eure praktischen Kenntnisse
  rund um erfolgreiche Pressearbeit vertiefen in den Bereichen Pressemittei
 lungen und Live-Interviews.
CATEGORIES:Fortbildung
LOCATION:Haus des Engagements\, Rehlingstraße 9\, Freiburg\, 79100\, Deuts
 chland
X-APPLE-STRUCTURED-LOCATION;VALUE=URI;X-ADDRESS=Rehlingstraße 9\, Freiburg
 \, 79100\, Deutschland;X-APPLE-RADIUS=100;X-TITLE=Haus des Engagements:geo
 :0,0
END:VEVENT
END:VCALENDAR