BEGIN:VCALENDAR
VERSION:2.0
PRODID:-//wp-events-plugin.com//7.2.3.1//EN
BEGIN:VEVENT
UID:180@haus-des-engagements.de
DTSTART:20250312T170000Z
DTEND:20250312T183000Z
DTSTAMP:20250305T202326Z
URL:https://haus-des-engagements.de/angebote/veranstaltungen/online-barrie
 ren-abbauen/
SUMMARY:Online Barrieren abbauen (ABGESAGT)
DESCRIPTION:In diesem Workshop hast du die Möglichkeit\, ganz konkrete Fra
 gen zu Online Barrieren zu stellen\, die dich beschäftigen. Bring dein La
 ptop und/ oder Smartphone mit\, um herauszufinden\, was bereits zugänglic
 h ist\, ohne dass du es weißt\, um zu erkennen\, was du verbessern kannst
 \, und um zu erfahren\, welche Hilfsmittel es gibt\, die dir dabei helfen.
CATEGORIES:Event,Fortbildung,Vortrag
LOCATION:Haus des Engagements - Veranstaltungsraum\, Rehlingstraße 9\, Fre
 iburg\, 79100\, Deutschland
X-APPLE-STRUCTURED-LOCATION;VALUE=URI;X-ADDRESS=Rehlingstraße 9\, Freiburg
 \, 79100\, Deutschland;X-APPLE-RADIUS=100;X-TITLE=Haus des Engagements - V
 eranstaltungsraum:geo:0,0
END:VEVENT
END:VCALENDAR