BEGIN:VCALENDAR
VERSION:2.0
PRODID:-//wp-events-plugin.com//7.2.3.1//EN
BEGIN:VEVENT
UID:217@haus-des-engagements.de
DTSTART:20260617T180000Z
DTEND:20260617T200000Z
DTSTAMP:20260416T102413Z
URL:https://haus-des-engagements.de/angebote/veranstaltungen/mehr-werden-f
 reiwillige-gewinnen-und-halten-good-practice-austausch/
SUMMARY:Mehr werden?! Freiwillige gewinnen und halten – Good Practice Aus
 tausch
DESCRIPTION:Wie gelingt es\, Menschen für Engagement zu begeistern – und
  sie langfristig einzubinden? Bei unserem Vernetzungstreffen für Engagier
 te berichten Greenpeace und die Stadtpiraten Freiburg\, wie sie erfolgreic
 h neue Freiwillige gewinnen\, begleiten und motivieren – und welche Erfa
 hrungen sie dabei speziell im Freiburger Kontext gemacht haben. Im Anschlu
 ss gibt es wie immer Raum für Erfahrungsaustausch und Vernetzung.
CATEGORIES:4netzen,Fortbildung
LOCATION:Haus des Engagements\, Rehlingstraße 9\, Freiburg\, 79100\, Deuts
 chland
X-APPLE-STRUCTURED-LOCATION;VALUE=URI;X-ADDRESS=Rehlingstraße 9\, Freiburg
 \, 79100\, Deutschland;X-APPLE-RADIUS=100;X-TITLE=Haus des Engagements:geo
 :0,0
END:VEVENT
END:VCALENDAR