BEGIN:VCALENDAR
VERSION:2.0
PRODID:-//wp-events-plugin.com//7.2.3.1//EN
BEGIN:VEVENT
UID:166@haus-des-engagements.de
DTSTART:20241104T170000Z
DTEND:20241104T210000Z
DTSTAMP:20241028T122205Z
URL:https://haus-des-engagements.de/angebote/veranstaltungen/linux-worksho
 p-linux-install-party/
SUMMARY:Linux-Workshop  //  "Linux-Install-Party"
DESCRIPTION:Die Freiburger Linux User Group (flug) und das Haus des Engagem
 ents laden zu einem Linux-Workshop ein.\nDer Workshop richtet sich an alle
 \, die ihr Betriebssystem auf ein GNU/Linux-System wechseln oder ein Dual-
 Boot-System einrichten wollen. \nAuch wenn Du nur Fragen zu Open-Source un
 ter Windows oder Deinem bestehenden Linux-System hast\, bist Du herzlich w
 illkommen.
CATEGORIES:Workshop
LOCATION:Haus des Engagements\, Rehlingstraße 9\, Freiburg\, 79100\, Deuts
 chland
X-APPLE-STRUCTURED-LOCATION;VALUE=URI;X-ADDRESS=Rehlingstraße 9\, Freiburg
 \, 79100\, Deutschland;X-APPLE-RADIUS=100;X-TITLE=Haus des Engagements:geo
 :0,0
END:VEVENT
END:VCALENDAR