BEGIN:VCALENDAR
VERSION:2.0
PRODID:-//wp-events-plugin.com//7.2.3.1//EN
BEGIN:VEVENT
UID:160@haus-des-engagements.de
DTSTART:20240904T180000Z
DTEND:20240904T200000Z
DTSTAMP:20240903T071338Z
URL:https://haus-des-engagements.de/angebote/veranstaltungen/konstruktive-
 dialogkultur-dialogprojekte-aus-freiburg-stellen-sich-vor/
SUMMARY:4netzen: Konstruktive Dialogkultur - Dialogprojekte aus Freiburg st
 ellen sich vor
DESCRIPTION:Die aufgeheizte Debattenkultur macht vielen Menschen Sorgen\, d
 ass unsere Gesellschaften sich immer mehr spalten und keine mehrheitsfähi
 gen Lösungen für die anstehenden Probleme finden. An diesem 4netzen-Aben
 d sind diese Dialogprojekte aus Freiburg eingeladen\, sich der Öffentlich
 keit vorzustellen und miteinander auszutauschen.
CATEGORIES:4netzen,Event,Vortrag
LOCATION:Haus des Engagements\, Rehlingstraße 9\, Freiburg\, 79100\, Deuts
 chland
X-APPLE-STRUCTURED-LOCATION;VALUE=URI;X-ADDRESS=Rehlingstraße 9\, Freiburg
 \, 79100\, Deutschland;X-APPLE-RADIUS=100;X-TITLE=Haus des Engagements:geo
 :0,0
END:VEVENT
END:VCALENDAR