BEGIN:VCALENDAR
VERSION:2.0
PRODID:-//wp-events-plugin.com//7.2.3.1//EN
BEGIN:VEVENT
UID:208@haus-des-engagements.de
DTSTART:20260625T180000Z
DTEND:20260625T203000Z
DTSTAMP:20260119T094705Z
URL:https://haus-des-engagements.de/angebote/veranstaltungen/kommunikation
 -matrix-als-alternative-zu-whatsapp-co/
SUMMARY:Kommunikation: Matrix als Alternative zu WhatsApp & Co
DESCRIPTION:Wie kommuniziert ihr in eurer Initiative oder eurem Verein und 
 was passiert dabei mit euren Daten? In diesem Workshop lernt ihr einen una
 bhängigen Messenger Dienst kennen\, der in Deutschland betrieben wird –
  global vernetzt\, aber lokal verankert. Ihr habt die Möglichkeit\, euch 
 direkt im Workshop mit Unterstützung von Expert*innen einen Account einzu
 richten bei Matrix bzw. Element\, die momentan eine der besten Lösungen i
 st\, für digital souveräne Kommunikation.
CATEGORIES:Fortbildung
LOCATION:Haus des Engagements\, Rehlingstraße 9\, Freiburg\, 79100\, Deuts
 chland
X-APPLE-STRUCTURED-LOCATION;VALUE=URI;X-ADDRESS=Rehlingstraße 9\, Freiburg
 \, 79100\, Deutschland;X-APPLE-RADIUS=100;X-TITLE=Haus des Engagements:geo
 :0,0
END:VEVENT
END:VCALENDAR