BEGIN:VCALENDAR
VERSION:2.0
PRODID:-//wp-events-plugin.com//7.2.3.1//EN
BEGIN:VEVENT
UID:143@haus-des-engagements.de
DTSTART:20240615T100000Z
DTEND:20240615T170000Z
DTSTAMP:20240606T084713Z
URL:https://haus-des-engagements.de/angebote/veranstaltungen/kampagnenplan
 ung-aktionen-strategisch-planen/
SUMMARY:Kampagnenplanung - Aktionen strategisch planen
DESCRIPTION:Damit sozialer Wandel und eine friedliche Zukunft möglich werd
 en\, braucht es Aufklärung und langfristigen Druck. Einzelne Aktionen all
 eine können dies meist nicht leisten. In dieser Fortbildung werdet ihr am
  Beispiel einer konkreten Kampagnenidee exemplarisch wichtige Schritte fü
 r erfolgreiche Kampagnenplanung kennenlernen.
CATEGORIES:Fortbildung
LOCATION:Haus des Engagements\, Rehlingstraße 9\, Freiburg\, 79100\, Deuts
 chland
X-APPLE-STRUCTURED-LOCATION;VALUE=URI;X-ADDRESS=Rehlingstraße 9\, Freiburg
 \, 79100\, Deutschland;X-APPLE-RADIUS=100;X-TITLE=Haus des Engagements:geo
 :0,0
END:VEVENT
END:VCALENDAR