BEGIN:VCALENDAR
VERSION:2.0
PRODID:-//wp-events-plugin.com//7.2.3.1//EN
BEGIN:VEVENT
UID:168@haus-des-engagements.de
DTSTART:20250309T093000Z
DTEND:20250309T163000Z
DTSTAMP:20250228T214104Z
URL:https://haus-des-engagements.de/angebote/veranstaltungen/kampagnenplan
 ung-aktionen-strategisch-planen-2/
SUMMARY:Kampagnenplanung - Aktionen strategisch planen
DESCRIPTION:Damit sozialer Wandel und eine friedliche Zukunft möglich werd
 en\, braucht es Aufklärung und langfristigen Druck. Einzelne Aktionen all
 eine können dies meist nicht leisten. In dieser Fortbildung werdet ihr am
  Beispiel einer konkreten Kampagnenidee exemplarisch wichtige Schritte fü
 r erfolgreiche Kampagnenplanung kennenlernen.
CATEGORIES:Event,Fortbildung,Vortrag
LOCATION:Haus des Engagements\, Rehlingstraße 9\, Freiburg\, 79100\, Deuts
 chland
X-APPLE-STRUCTURED-LOCATION;VALUE=URI;X-ADDRESS=Rehlingstraße 9\, Freiburg
 \, 79100\, Deutschland;X-APPLE-RADIUS=100;X-TITLE=Haus des Engagements:geo
 :0,0
END:VEVENT
END:VCALENDAR