BEGIN:VCALENDAR
VERSION:2.0
PRODID:-//wp-events-plugin.com//7.2.3.1//EN
BEGIN:VEVENT
UID:176@haus-des-engagements.de
DTSTART:20250719T080000Z
DTEND:20250720T160000Z
DTSTAMP:20250711T141025Z
URL:https://haus-des-engagements.de/angebote/veranstaltungen/interkulturel
 le-kompetenz/
SUMMARY:Interkulturelle Kompetenz
DESCRIPTION:Für den effektiven Umgang mit Menschen\, die einen anderen kul
 turellen Hintergrund haben\, ist "interkulturelle Kompetenz" gefordert - e
 ine Kombination aus sozialen Fertigkeiten und einschlägigem Fachwissen. F
 remde Kultur kann jedoch nur richtig wahrnehmen\, wer sich seiner eigenen 
 kulturellen Prägung bewusst ist. \n\nDer Kurs enthält eine allgemeine Ei
 nführung zur Interkulturellen Kompetenz und Kommunikation und versetzt di
 e Teilnehmenden in die Lage\, interkulturelle Situationen erfolgreich zu b
 eobachten und einzuschätzen.
CATEGORIES:Event,Fortbildung,Vortrag
LOCATION:Haus des Engagements - Veranstaltungsraum\, Rehlingstraße 9\, Fre
 iburg\, 79100\, Deutschland
X-APPLE-STRUCTURED-LOCATION;VALUE=URI;X-ADDRESS=Rehlingstraße 9\, Freiburg
 \, 79100\, Deutschland;X-APPLE-RADIUS=100;X-TITLE=Haus des Engagements - V
 eranstaltungsraum:geo:0,0
END:VEVENT
END:VCALENDAR