BEGIN:VCALENDAR
VERSION:2.0
PRODID:-//wp-events-plugin.com//7.2.3.1//EN
BEGIN:VEVENT
UID:106@haus-des-engagements.de
DTSTART:20240321T163000Z
DTEND:20240321T180000Z
DTSTAMP:20240220T111023Z
URL:https://haus-des-engagements.de/angebote/veranstaltungen/helpdesk-fina
 nzierung-foerdermittel/
SUMMARY:Helpdesk Finanzierung & Fördermittel
DESCRIPTION:Beratung zu Recherche von Fördermittel\, Erstellung von Konzep
 ten und Kostenplänen\, Antragsstellung etc. für Initiativen im Bereich M
 igration & Integration
CATEGORIES:Helpdesk
END:VEVENT
END:VCALENDAR