BEGIN:VCALENDAR
VERSION:2.0
PRODID:-//wp-events-plugin.com//7.2.3.1//EN
BEGIN:VEVENT
UID:192@haus-des-engagements.de
DTSTART:20251129T100000Z
DTEND:20251129T130000Z
DTSTAMP:20251121T105349Z
URL:https://haus-des-engagements.de/angebote/veranstaltungen/grundlagen-de
 r-instagram-nutzung-fuer-initiativen-vereine-und-ngos-teil-2/
SUMMARY:Grundlagen der Instagram-Nutzung für Initiativen\, Vereine und NGO
 s (Teil 2)
DESCRIPTION:Wer bereits grundlegende Kenntnisse über Instagram hat\, aber 
 noch tiefer einsteigen möchte\, wie die Plattform genutzt werden kann\, u
 m die Reichweite des eigenen Vereins zu steigern\, ist hier genau richtig.
   In dieser Fortbildung stehen der Erfahrungsaustausch\, das Teilen bewäh
 rter Praktiken sowie die gemeinsame Erörterung neu aufgetretener Herausfo
 rderungen im Mittelpunkt.
CATEGORIES:Fortbildung
LOCATION:Haus des Engagements\, Rehlingstraße 9\, Freiburg\, 79100\, Deuts
 chland
X-APPLE-STRUCTURED-LOCATION;VALUE=URI;X-ADDRESS=Rehlingstraße 9\, Freiburg
 \, 79100\, Deutschland;X-APPLE-RADIUS=100;X-TITLE=Haus des Engagements:geo
 :0,0
END:VEVENT
END:VCALENDAR