BEGIN:VCALENDAR
VERSION:2.0
PRODID:-//wp-events-plugin.com//7.2.3.1//EN
BEGIN:VEVENT
UID:102@haus-des-engagements.de
DTSTART:20230227T190000Z
DTEND:20230227T210000Z
DTSTAMP:20230217T094557Z
URL:https://haus-des-engagements.de/angebote/veranstaltungen/grundlagen-de
 r-freiwilligenkoordination/
SUMMARY:Ehrenamtliche gewinnen - Grundlagen der Engagementförderung
DESCRIPTION:Damit das Engagement in einer Organisation gut funktioniert\, b
 enötigen die Freiwilligen gute unterstützende Strukturen. In diesem Webi
 nar erhalten Sie einen Überblick über eine gute Engagementförderung und
  Impulse für eine gelingende Arbeit zwischen Haupt- & Ehrenamt.
CATEGORIES:Fortbildung,Online
LOCATION:Online\, Online-Meeting\, Zugangsdaten werden bekanntgegeben\, Deu
 tschland
X-APPLE-STRUCTURED-LOCATION;VALUE=URI;X-ADDRESS=Online-Meeting\, Zugangsdat
 en werden bekanntgegeben\, Deutschland;X-APPLE-RADIUS=100;X-TITLE=Online:g
 eo:0,0
END:VEVENT
END:VCALENDAR