BEGIN:VCALENDAR
VERSION:2.0
PRODID:-//wp-events-plugin.com//7.2.3.1//EN
BEGIN:VEVENT
UID:152@haus-des-engagements.de
DTSTART:20240404T180000Z
DTEND:20240404T200000Z
DTSTAMP:20240326T071723Z
URL:https://haus-des-engagements.de/angebote/veranstaltungen/freiburger-fo
 erdernde-zivilgesellschaft-speed-dating-abend-im-haus-des-engagements/
SUMMARY:Freiburger Fördernde & Zivilgesellschaft: Speed-Dating Abend im Ha
 us des Engagements
DESCRIPTION:Beim Speed-Dating am 4. April 2024\, haben Stiftungen\, Förder
 nde und Engagierte die Chance\, ihr Match zu finden! Durch den Austausch 
 über Ziele\, Vorhaben und Projekte in mehreren kurzen Gesprächsrunden fi
 nden die passenden Menschen und Projekte zueinander.
CATEGORIES:4netzen,Event,Vortrag
LOCATION:Haus des Engagements\, Rehlingstraße 9\, Freiburg\, 79100\, Deuts
 chland
X-APPLE-STRUCTURED-LOCATION;VALUE=URI;X-ADDRESS=Rehlingstraße 9\, Freiburg
 \, 79100\, Deutschland;X-APPLE-RADIUS=100;X-TITLE=Haus des Engagements:geo
 :0,0
END:VEVENT
END:VCALENDAR