BEGIN:VCALENDAR
VERSION:2.0
PRODID:-//wp-events-plugin.com//7.2.3.1//EN
BEGIN:VEVENT
UID:138@haus-des-engagements.de
DTSTART:20240116T140000Z
DTEND:20240116T210000Z
DTSTAMP:20240112T185611Z
URL:https://haus-des-engagements.de/angebote/veranstaltungen/eroeffnungsfe
 ier-der-erweiterung-des-haus-des-engagements/
SUMMARY:Eröffnungsfeier der Erweiterung des Haus des Engagements
DESCRIPTION:Wir laden herzlich zur feierlichen Eröffnung der neuen Räume 
 im Vorderhaus des Haus des Engagements Freiburg ein. Es erwartet Sie ein b
 untes Programm mit Führungen durch die Räume\, Kennenlernen der Initiati
 ven im HdE\, einem Grußwort von Martin Horn um 18 Uhr sowie Leckereien\, 
 Mitmachaktionen und Musik. Wir freuen uns auf euch!
CATEGORIES:Event,Vortrag,Workshop
LOCATION:Haus des Engagements\, Rehlingstraße 9\, Freiburg\, 79100\, Deuts
 chland
X-APPLE-STRUCTURED-LOCATION;VALUE=URI;X-ADDRESS=Rehlingstraße 9\, Freiburg
 \, 79100\, Deutschland;X-APPLE-RADIUS=100;X-TITLE=Haus des Engagements:geo
 :0,0
END:VEVENT
END:VCALENDAR