BEGIN:VCALENDAR
VERSION:2.0
PRODID:-//wp-events-plugin.com//7.2.3.1//EN
BEGIN:VEVENT
UID:173@haus-des-engagements.de
DTSTART:20250329T090000Z
DTEND:20250329T123000Z
DTSTAMP:20250320T082645Z
URL:https://haus-des-engagements.de/angebote/veranstaltungen/einfache-spra
 che-teil-1/
SUMMARY:Einfache Sprache – Kommunikation\, die gelingt! Teil 1
DESCRIPTION:Ob wir miteinander sprechen oder schriftlich kommunizieren – 
 wir alle wünschen uns\, dass die Kommunikation gelingt.\n\nIn diesem Work
 shop lernt ihr die Grundregeln der Einfachen Sprache kennen sowie die Anwe
 ndungsmöglichkeiten im eigenen (ehrenamtlichen / beruflichen) Kontext.
CATEGORIES:Event,Fortbildung,Vortrag
LOCATION:Haus des Engagements - weißer Raum\, Rehlingstraße 9\, Freiburg\
 , 79100\, Deutschland
X-APPLE-STRUCTURED-LOCATION;VALUE=URI;X-ADDRESS=Rehlingstraße 9\, Freiburg
 \, 79100\, Deutschland;X-APPLE-RADIUS=100;X-TITLE=Haus des Engagements - w
 eißer Raum:geo:0,0
END:VEVENT
END:VCALENDAR