BEGIN:VCALENDAR
VERSION:2.0
PRODID:-//wp-events-plugin.com//7.2.3.1//EN
BEGIN:VEVENT
UID:145@haus-des-engagements.de
DTSTART:20240514T170000Z
DTEND:20240514T200000Z
DTSTAMP:20240510T095134Z
URL:https://haus-des-engagements.de/angebote/veranstaltungen/check-your-pr
 ivilege-klassismus/
SUMMARY:Check your privilege: Klassismus
DESCRIPTION:Wer kann sich welches Engagement überhaupt leisten? Wie teuer 
 darf ein Workshop sein? Wem ist es möglich\, sich uns anzuschließen und 
 wem nicht? Wieso ist das so und was können wir daran ändern?\nDiese Frag
 en wollen wir unter dem Blickwinkel von Klassismus betrachten.\nKlassismus
 \, das bedeutet\, wenn Menschen aufgrund ihrer Klassenherkunft oder Klasse
 nzuschreibung hierarchisiert werden und dies ihren Zugang zu gesellschaftl
 ichen Ressourcen bestimmt.\nWir gehen das Thema mit einigem Input und inte
 raktiven Methoden an.
CATEGORIES:Fortbildung
LOCATION:Haus des Engagements\, Rehlingstraße 9\, Freiburg\, 79100\, Deuts
 chland
X-APPLE-STRUCTURED-LOCATION;VALUE=URI;X-ADDRESS=Rehlingstraße 9\, Freiburg
 \, 79100\, Deutschland;X-APPLE-RADIUS=100;X-TITLE=Haus des Engagements:geo
 :0,0
END:VEVENT
END:VCALENDAR