BEGIN:VCALENDAR
VERSION:2.0
PRODID:-//wp-events-plugin.com//7.2.3.1//EN
BEGIN:VEVENT
UID:155@haus-des-engagements.de
DTSTART:20240522T230000Z
DTEND:20240607T230000Z
DTSTAMP:20240517T090554Z
URL:https://haus-des-engagements.de/angebote/veranstaltungen/alles-gute-zu
 m-grundgesetz/
SUMMARY:Alles Gute zum Grundgesetz!
DESCRIPTION:Am 23.5.2024 wird das Grundgesetz (GG) genau 75 Jahre alt. Vom 
 23.5.2024 bis zum 8.6.2024 bieten zahlreiche kostenlose Aktionen die Geleg
 enheit\, das zu feiern: so vielfältig wie die Menschen in Freiburg.
CATEGORIES:Event,Vortrag
END:VEVENT
END:VCALENDAR