BEGIN:VCALENDAR
VERSION:2.0
PRODID:-//wp-events-plugin.com//7.2.3.1//EN
BEGIN:VEVENT
UID:120@haus-des-engagements.de
DTSTART:20230704T180000Z
DTEND:20230704T203000Z
DTSTAMP:20230616T115959Z
URL:https://haus-des-engagements.de/angebote/veranstaltungen/4netzen-umwel
 tbewegung-damals-und-heute-was-koennen-die-generationen-voneinander-lernen
 /
SUMMARY:4netzen: Umweltbewegung damals und heute – Was können die Genera
 tionen voneinander lernen?
DESCRIPTION:Was können die jungen Aktiven und die alten Aktiven voneinande
 r lernen\, was lässt sich übertragen - und was nicht? Erfahrene Engagier
 te aus der Zeit der Anti-AKW Bewegung der 70er/80er Jahre tauschen sich mi
 t der neuen Generation aus. Kurze Filmausschnitte und ein Liedermacher ver
 mitteln die Atmosphäre bei den jeweiligen Aktionen "damals" und "heute".
CATEGORIES:4netzen,Event,Vortrag
LOCATION:Ökostation Freiburg\, Falkenbergerstr. 21B\, Freiburg\, 79110\, D
 eutschland
X-APPLE-STRUCTURED-LOCATION;VALUE=URI;X-ADDRESS=Falkenbergerstr. 21B\, Frei
 burg\, 79110\, Deutschland;X-APPLE-RADIUS=100;X-TITLE=Ökostation Freiburg
 :geo:0,0
END:VEVENT
END:VCALENDAR