BEGIN:VCALENDAR
VERSION:2.0
PRODID:-//wp-events-plugin.com//7.2.3.1//EN
BEGIN:VEVENT
UID:191@haus-des-engagements.de
DTSTART:20250704T180000Z
DTEND:20250704T190000Z
DTSTAMP:20250614T202834Z
URL:https://haus-des-engagements.de/angebote/veranstaltungen/4netzen-beim-
 agrikulturfestival/
SUMMARY:4netzen beim Agrikulturfestival
DESCRIPTION:Beim 4netzen am 04. Juli 2025 erwartet euch Vernetzung mit ande
 ren Engagierten in lockerer AgriKulturfestival-Atmosphäre: gemeinsam eine
  leckere Fruchtbowle herstellen und über Früchte des Engagements in Aust
 ausch kommen\, Rezepte für wirksames Engagement tauschen\, einen Überbli
 ck über Unterstützungsangebote für euer Engagement erhalten und Wünsch
 e formulieren.
CATEGORIES:4netzen,Fortbildung
LOCATION:Edith-Stein-Schule Eschholzpark\, Bissierstraße 17\, Freiburg\, 7
 9114\, Deutschland
X-APPLE-STRUCTURED-LOCATION;VALUE=URI;X-ADDRESS=Bissierstraße 17\, Freibur
 g\, 79114\, Deutschland;X-APPLE-RADIUS=100;X-TITLE=Edith-Stein-Schule Esch
 holzpark:geo:0,0
END:VEVENT
END:VCALENDAR